BEGIN:VCALENDAR
VERSION:2.0
PRODID:-//Watertown Congregational Methodist Church - ECPv6.15.20//NONSGML v1.0//EN
CALSCALE:GREGORIAN
METHOD:PUBLISH
X-ORIGINAL-URL:https://watertowncmc.org
X-WR-CALDESC:Events for Watertown Congregational Methodist Church
REFRESH-INTERVAL;VALUE=DURATION:PT1H
X-Robots-Tag:noindex
X-PUBLISHED-TTL:PT1H
BEGIN:VTIMEZONE
TZID:America/New_York
BEGIN:DAYLIGHT
TZOFFSETFROM:-0500
TZOFFSETTO:-0400
TZNAME:EDT
DTSTART:20260308T070000
END:DAYLIGHT
BEGIN:STANDARD
TZOFFSETFROM:-0400
TZOFFSETTO:-0500
TZNAME:EST
DTSTART:20261101T060000
END:STANDARD
BEGIN:DAYLIGHT
TZOFFSETFROM:-0500
TZOFFSETTO:-0400
TZNAME:EDT
DTSTART:20270314T070000
END:DAYLIGHT
BEGIN:STANDARD
TZOFFSETFROM:-0400
TZOFFSETTO:-0500
TZNAME:EST
DTSTART:20271107T060000
END:STANDARD
BEGIN:DAYLIGHT
TZOFFSETFROM:-0500
TZOFFSETTO:-0400
TZNAME:EDT
DTSTART:20280312T070000
END:DAYLIGHT
BEGIN:STANDARD
TZOFFSETFROM:-0400
TZOFFSETTO:-0500
TZNAME:EST
DTSTART:20281105T060000
END:STANDARD
END:VTIMEZONE
BEGIN:VEVENT
DTSTART;TZID=America/New_York:20271201T180000
DTEND;TZID=America/New_York:20271201T180000
DTSTAMP:20260421T091809
CREATED:20260313T181127Z
LAST-MODIFIED:20260313T184639Z
UID:10000090-1827684000-1827684000@watertowncmc.org
SUMMARY:Midweek Prayer
DESCRIPTION:
URL:https://watertowncmc.org/event/midweek-prayer/2027-12-01/
LOCATION:Watertown Congregational Methodist Church\, 024 Okinawa Road\, Lake City\, Florida\, 32055\, United States
CATEGORIES:Weekly Services
END:VEVENT
BEGIN:VEVENT
DTSTART;TZID=America/New_York:20271205T094500
DTEND;TZID=America/New_York:20271205T094500
DTSTAMP:20260421T091809
CREATED:20260313T183950Z
LAST-MODIFIED:20260313T184000Z
UID:10000352-1827999900-1827999900@watertowncmc.org
SUMMARY:Sunday School
DESCRIPTION:
URL:https://watertowncmc.org/event/sunday-school/2027-12-05/
LOCATION:Watertown Congregational Methodist Church\, 024 Okinawa Road\, Lake City\, Florida\, 32055\, United States
END:VEVENT
BEGIN:VEVENT
DTSTART;TZID=America/New_York:20271205T110000
DTEND;TZID=America/New_York:20271205T110000
DTSTAMP:20260421T091809
CREATED:20260313T184140Z
LAST-MODIFIED:20260313T184159Z
UID:10000613-1828004400-1828004400@watertowncmc.org
SUMMARY:Worship
DESCRIPTION:
URL:https://watertowncmc.org/event/worship/2027-12-05/
LOCATION:Watertown Congregational Methodist Church\, 024 Okinawa Road\, Lake City\, Florida\, 32055\, United States
CATEGORIES:Weekly Services
END:VEVENT
BEGIN:VEVENT
DTSTART;TZID=America/New_York:20271208T180000
DTEND;TZID=America/New_York:20271208T180000
DTSTAMP:20260421T091809
CREATED:20260313T181127Z
LAST-MODIFIED:20260313T184639Z
UID:10000091-1828288800-1828288800@watertowncmc.org
SUMMARY:Midweek Prayer
DESCRIPTION:
URL:https://watertowncmc.org/event/midweek-prayer/2027-12-08/
LOCATION:Watertown Congregational Methodist Church\, 024 Okinawa Road\, Lake City\, Florida\, 32055\, United States
CATEGORIES:Weekly Services
END:VEVENT
BEGIN:VEVENT
DTSTART;TZID=America/New_York:20271212T094500
DTEND;TZID=America/New_York:20271212T094500
DTSTAMP:20260421T091809
CREATED:20260313T183950Z
LAST-MODIFIED:20260313T184000Z
UID:10000353-1828604700-1828604700@watertowncmc.org
SUMMARY:Sunday School
DESCRIPTION:
URL:https://watertowncmc.org/event/sunday-school/2027-12-12/
LOCATION:Watertown Congregational Methodist Church\, 024 Okinawa Road\, Lake City\, Florida\, 32055\, United States
END:VEVENT
BEGIN:VEVENT
DTSTART;TZID=America/New_York:20271212T110000
DTEND;TZID=America/New_York:20271212T110000
DTSTAMP:20260421T091809
CREATED:20260313T184140Z
LAST-MODIFIED:20260313T184159Z
UID:10000614-1828609200-1828609200@watertowncmc.org
SUMMARY:Worship
DESCRIPTION:
URL:https://watertowncmc.org/event/worship/2027-12-12/
LOCATION:Watertown Congregational Methodist Church\, 024 Okinawa Road\, Lake City\, Florida\, 32055\, United States
CATEGORIES:Weekly Services
END:VEVENT
BEGIN:VEVENT
DTSTART;TZID=America/New_York:20271215T180000
DTEND;TZID=America/New_York:20271215T180000
DTSTAMP:20260421T091809
CREATED:20260313T181127Z
LAST-MODIFIED:20260313T184639Z
UID:10000092-1828893600-1828893600@watertowncmc.org
SUMMARY:Midweek Prayer
DESCRIPTION:
URL:https://watertowncmc.org/event/midweek-prayer/2027-12-15/
LOCATION:Watertown Congregational Methodist Church\, 024 Okinawa Road\, Lake City\, Florida\, 32055\, United States
CATEGORIES:Weekly Services
END:VEVENT
BEGIN:VEVENT
DTSTART;TZID=America/New_York:20271219T094500
DTEND;TZID=America/New_York:20271219T094500
DTSTAMP:20260421T091809
CREATED:20260313T183950Z
LAST-MODIFIED:20260313T184000Z
UID:10000354-1829209500-1829209500@watertowncmc.org
SUMMARY:Sunday School
DESCRIPTION:
URL:https://watertowncmc.org/event/sunday-school/2027-12-19/
LOCATION:Watertown Congregational Methodist Church\, 024 Okinawa Road\, Lake City\, Florida\, 32055\, United States
END:VEVENT
BEGIN:VEVENT
DTSTART;TZID=America/New_York:20271219T110000
DTEND;TZID=America/New_York:20271219T110000
DTSTAMP:20260421T091809
CREATED:20260313T184140Z
LAST-MODIFIED:20260313T184159Z
UID:10000615-1829214000-1829214000@watertowncmc.org
SUMMARY:Worship
DESCRIPTION:
URL:https://watertowncmc.org/event/worship/2027-12-19/
LOCATION:Watertown Congregational Methodist Church\, 024 Okinawa Road\, Lake City\, Florida\, 32055\, United States
CATEGORIES:Weekly Services
END:VEVENT
BEGIN:VEVENT
DTSTART;TZID=America/New_York:20271222T180000
DTEND;TZID=America/New_York:20271222T180000
DTSTAMP:20260421T091809
CREATED:20260313T181127Z
LAST-MODIFIED:20260313T184639Z
UID:10000093-1829498400-1829498400@watertowncmc.org
SUMMARY:Midweek Prayer
DESCRIPTION:
URL:https://watertowncmc.org/event/midweek-prayer/2027-12-22/
LOCATION:Watertown Congregational Methodist Church\, 024 Okinawa Road\, Lake City\, Florida\, 32055\, United States
CATEGORIES:Weekly Services
END:VEVENT
BEGIN:VEVENT
DTSTART;TZID=America/New_York:20271226T094500
DTEND;TZID=America/New_York:20271226T094500
DTSTAMP:20260421T091809
CREATED:20260313T183950Z
LAST-MODIFIED:20260313T184000Z
UID:10000355-1829814300-1829814300@watertowncmc.org
SUMMARY:Sunday School
DESCRIPTION:
URL:https://watertowncmc.org/event/sunday-school/2027-12-26/
LOCATION:Watertown Congregational Methodist Church\, 024 Okinawa Road\, Lake City\, Florida\, 32055\, United States
END:VEVENT
BEGIN:VEVENT
DTSTART;TZID=America/New_York:20271226T110000
DTEND;TZID=America/New_York:20271226T110000
DTSTAMP:20260421T091809
CREATED:20260313T184140Z
LAST-MODIFIED:20260313T184159Z
UID:10000616-1829818800-1829818800@watertowncmc.org
SUMMARY:Worship
DESCRIPTION:
URL:https://watertowncmc.org/event/worship/2027-12-26/
LOCATION:Watertown Congregational Methodist Church\, 024 Okinawa Road\, Lake City\, Florida\, 32055\, United States
CATEGORIES:Weekly Services
END:VEVENT
BEGIN:VEVENT
DTSTART;TZID=America/New_York:20271229T180000
DTEND;TZID=America/New_York:20271229T180000
DTSTAMP:20260421T091809
CREATED:20260313T181127Z
LAST-MODIFIED:20260313T184639Z
UID:10000094-1830103200-1830103200@watertowncmc.org
SUMMARY:Midweek Prayer
DESCRIPTION:
URL:https://watertowncmc.org/event/midweek-prayer/2027-12-29/
LOCATION:Watertown Congregational Methodist Church\, 024 Okinawa Road\, Lake City\, Florida\, 32055\, United States
CATEGORIES:Weekly Services
END:VEVENT
END:VCALENDAR