BEGIN:VCALENDAR
VERSION:2.0
PRODID:-//Watertown Congregational Methodist Church - ECPv6.15.20//NONSGML v1.0//EN
CALSCALE:GREGORIAN
METHOD:PUBLISH
X-ORIGINAL-URL:https://watertowncmc.org
X-WR-CALDESC:Events for Watertown Congregational Methodist Church
REFRESH-INTERVAL;VALUE=DURATION:PT1H
X-Robots-Tag:noindex
X-PUBLISHED-TTL:PT1H
BEGIN:VTIMEZONE
TZID:America/New_York
BEGIN:DAYLIGHT
TZOFFSETFROM:-0500
TZOFFSETTO:-0400
TZNAME:EDT
DTSTART:20270314T070000
END:DAYLIGHT
BEGIN:STANDARD
TZOFFSETFROM:-0400
TZOFFSETTO:-0500
TZNAME:EST
DTSTART:20271107T060000
END:STANDARD
BEGIN:DAYLIGHT
TZOFFSETFROM:-0500
TZOFFSETTO:-0400
TZNAME:EDT
DTSTART:20280312T070000
END:DAYLIGHT
BEGIN:STANDARD
TZOFFSETFROM:-0400
TZOFFSETTO:-0500
TZNAME:EST
DTSTART:20281105T060000
END:STANDARD
BEGIN:DAYLIGHT
TZOFFSETFROM:-0500
TZOFFSETTO:-0400
TZNAME:EDT
DTSTART:20290311T070000
END:DAYLIGHT
BEGIN:STANDARD
TZOFFSETFROM:-0400
TZOFFSETTO:-0500
TZNAME:EST
DTSTART:20291104T060000
END:STANDARD
END:VTIMEZONE
BEGIN:VEVENT
DTSTART;TZID=America/New_York:20280903T094500
DTEND;TZID=America/New_York:20280903T094500
DTSTAMP:20260421T211658
CREATED:20260313T183950Z
LAST-MODIFIED:20260313T184000Z
UID:10000391-1851587100-1851587100@watertowncmc.org
SUMMARY:Sunday School
DESCRIPTION:
URL:https://watertowncmc.org/event/sunday-school/2028-09-03/
LOCATION:Watertown Congregational Methodist Church\, 024 Okinawa Road\, Lake City\, Florida\, 32055\, United States
END:VEVENT
BEGIN:VEVENT
DTSTART;TZID=America/New_York:20280903T110000
DTEND;TZID=America/New_York:20280903T110000
DTSTAMP:20260421T211658
CREATED:20260313T184140Z
LAST-MODIFIED:20260313T184159Z
UID:10000652-1851591600-1851591600@watertowncmc.org
SUMMARY:Worship
DESCRIPTION:
URL:https://watertowncmc.org/event/worship/2028-09-03/
LOCATION:Watertown Congregational Methodist Church\, 024 Okinawa Road\, Lake City\, Florida\, 32055\, United States
CATEGORIES:Weekly Services
END:VEVENT
BEGIN:VEVENT
DTSTART;TZID=America/New_York:20280906T180000
DTEND;TZID=America/New_York:20280906T180000
DTSTAMP:20260421T211658
CREATED:20260313T181127Z
LAST-MODIFIED:20260313T184639Z
UID:10000130-1851876000-1851876000@watertowncmc.org
SUMMARY:Midweek Prayer
DESCRIPTION:
URL:https://watertowncmc.org/event/midweek-prayer/2028-09-06/
LOCATION:Watertown Congregational Methodist Church\, 024 Okinawa Road\, Lake City\, Florida\, 32055\, United States
CATEGORIES:Weekly Services
END:VEVENT
BEGIN:VEVENT
DTSTART;TZID=America/New_York:20280910T094500
DTEND;TZID=America/New_York:20280910T094500
DTSTAMP:20260421T211658
CREATED:20260313T183950Z
LAST-MODIFIED:20260313T184000Z
UID:10000392-1852191900-1852191900@watertowncmc.org
SUMMARY:Sunday School
DESCRIPTION:
URL:https://watertowncmc.org/event/sunday-school/2028-09-10/
LOCATION:Watertown Congregational Methodist Church\, 024 Okinawa Road\, Lake City\, Florida\, 32055\, United States
END:VEVENT
BEGIN:VEVENT
DTSTART;TZID=America/New_York:20280910T110000
DTEND;TZID=America/New_York:20280910T110000
DTSTAMP:20260421T211658
CREATED:20260313T184140Z
LAST-MODIFIED:20260313T184159Z
UID:10000653-1852196400-1852196400@watertowncmc.org
SUMMARY:Worship
DESCRIPTION:
URL:https://watertowncmc.org/event/worship/2028-09-10/
LOCATION:Watertown Congregational Methodist Church\, 024 Okinawa Road\, Lake City\, Florida\, 32055\, United States
CATEGORIES:Weekly Services
END:VEVENT
BEGIN:VEVENT
DTSTART;TZID=America/New_York:20280913T180000
DTEND;TZID=America/New_York:20280913T180000
DTSTAMP:20260421T211658
CREATED:20260313T181127Z
LAST-MODIFIED:20260313T184639Z
UID:10000131-1852480800-1852480800@watertowncmc.org
SUMMARY:Midweek Prayer
DESCRIPTION:
URL:https://watertowncmc.org/event/midweek-prayer/2028-09-13/
LOCATION:Watertown Congregational Methodist Church\, 024 Okinawa Road\, Lake City\, Florida\, 32055\, United States
CATEGORIES:Weekly Services
END:VEVENT
BEGIN:VEVENT
DTSTART;TZID=America/New_York:20280917T094500
DTEND;TZID=America/New_York:20280917T094500
DTSTAMP:20260421T211658
CREATED:20260313T183950Z
LAST-MODIFIED:20260313T184000Z
UID:10000393-1852796700-1852796700@watertowncmc.org
SUMMARY:Sunday School
DESCRIPTION:
URL:https://watertowncmc.org/event/sunday-school/2028-09-17/
LOCATION:Watertown Congregational Methodist Church\, 024 Okinawa Road\, Lake City\, Florida\, 32055\, United States
END:VEVENT
BEGIN:VEVENT
DTSTART;TZID=America/New_York:20280917T110000
DTEND;TZID=America/New_York:20280917T110000
DTSTAMP:20260421T211658
CREATED:20260313T184140Z
LAST-MODIFIED:20260313T184159Z
UID:10000654-1852801200-1852801200@watertowncmc.org
SUMMARY:Worship
DESCRIPTION:
URL:https://watertowncmc.org/event/worship/2028-09-17/
LOCATION:Watertown Congregational Methodist Church\, 024 Okinawa Road\, Lake City\, Florida\, 32055\, United States
CATEGORIES:Weekly Services
END:VEVENT
BEGIN:VEVENT
DTSTART;TZID=America/New_York:20280920T180000
DTEND;TZID=America/New_York:20280920T180000
DTSTAMP:20260421T211658
CREATED:20260313T181127Z
LAST-MODIFIED:20260313T184639Z
UID:10000132-1853085600-1853085600@watertowncmc.org
SUMMARY:Midweek Prayer
DESCRIPTION:
URL:https://watertowncmc.org/event/midweek-prayer/2028-09-20/
LOCATION:Watertown Congregational Methodist Church\, 024 Okinawa Road\, Lake City\, Florida\, 32055\, United States
CATEGORIES:Weekly Services
END:VEVENT
BEGIN:VEVENT
DTSTART;TZID=America/New_York:20280924T094500
DTEND;TZID=America/New_York:20280924T094500
DTSTAMP:20260421T211658
CREATED:20260313T183950Z
LAST-MODIFIED:20260313T184000Z
UID:10000394-1853401500-1853401500@watertowncmc.org
SUMMARY:Sunday School
DESCRIPTION:
URL:https://watertowncmc.org/event/sunday-school/2028-09-24/
LOCATION:Watertown Congregational Methodist Church\, 024 Okinawa Road\, Lake City\, Florida\, 32055\, United States
END:VEVENT
BEGIN:VEVENT
DTSTART;TZID=America/New_York:20280924T110000
DTEND;TZID=America/New_York:20280924T110000
DTSTAMP:20260421T211658
CREATED:20260313T184140Z
LAST-MODIFIED:20260313T184159Z
UID:10000655-1853406000-1853406000@watertowncmc.org
SUMMARY:Worship
DESCRIPTION:
URL:https://watertowncmc.org/event/worship/2028-09-24/
LOCATION:Watertown Congregational Methodist Church\, 024 Okinawa Road\, Lake City\, Florida\, 32055\, United States
CATEGORIES:Weekly Services
END:VEVENT
BEGIN:VEVENT
DTSTART;TZID=America/New_York:20280927T180000
DTEND;TZID=America/New_York:20280927T180000
DTSTAMP:20260421T211658
CREATED:20260313T181127Z
LAST-MODIFIED:20260313T184639Z
UID:10000133-1853690400-1853690400@watertowncmc.org
SUMMARY:Midweek Prayer
DESCRIPTION:
URL:https://watertowncmc.org/event/midweek-prayer/2028-09-27/
LOCATION:Watertown Congregational Methodist Church\, 024 Okinawa Road\, Lake City\, Florida\, 32055\, United States
CATEGORIES:Weekly Services
END:VEVENT
END:VCALENDAR