BEGIN:VCALENDAR
VERSION:2.0
PRODID:-//Watertown Congregational Methodist Church - ECPv6.15.20//NONSGML v1.0//EN
CALSCALE:GREGORIAN
METHOD:PUBLISH
X-WR-CALNAME:Watertown Congregational Methodist Church
X-ORIGINAL-URL:https://watertowncmc.org
X-WR-CALDESC:Events for Watertown Congregational Methodist Church
REFRESH-INTERVAL;VALUE=DURATION:PT1H
X-Robots-Tag:noindex
X-PUBLISHED-TTL:PT1H
BEGIN:VTIMEZONE
TZID:America/New_York
BEGIN:DAYLIGHT
TZOFFSETFROM:-0500
TZOFFSETTO:-0400
TZNAME:EDT
DTSTART:20270314T070000
END:DAYLIGHT
BEGIN:STANDARD
TZOFFSETFROM:-0400
TZOFFSETTO:-0500
TZNAME:EST
DTSTART:20271107T060000
END:STANDARD
BEGIN:DAYLIGHT
TZOFFSETFROM:-0500
TZOFFSETTO:-0400
TZNAME:EDT
DTSTART:20280312T070000
END:DAYLIGHT
BEGIN:STANDARD
TZOFFSETFROM:-0400
TZOFFSETTO:-0500
TZNAME:EST
DTSTART:20281105T060000
END:STANDARD
BEGIN:DAYLIGHT
TZOFFSETFROM:-0500
TZOFFSETTO:-0400
TZNAME:EDT
DTSTART:20290311T070000
END:DAYLIGHT
BEGIN:STANDARD
TZOFFSETFROM:-0400
TZOFFSETTO:-0500
TZNAME:EST
DTSTART:20291104T060000
END:STANDARD
END:VTIMEZONE
BEGIN:VEVENT
DTSTART;TZID=America/New_York:20281001T094500
DTEND;TZID=America/New_York:20281001T094500
DTSTAMP:20260421T224524
CREATED:20260313T183950Z
LAST-MODIFIED:20260313T184000Z
UID:10000395-1854006300-1854006300@watertowncmc.org
SUMMARY:Sunday School
DESCRIPTION:
URL:https://watertowncmc.org/event/sunday-school/2028-10-01/
LOCATION:Watertown Congregational Methodist Church\, 024 Okinawa Road\, Lake City\, Florida\, 32055\, United States
END:VEVENT
BEGIN:VEVENT
DTSTART;TZID=America/New_York:20281001T110000
DTEND;TZID=America/New_York:20281001T110000
DTSTAMP:20260421T224524
CREATED:20260313T184140Z
LAST-MODIFIED:20260313T184159Z
UID:10000656-1854010800-1854010800@watertowncmc.org
SUMMARY:Worship
DESCRIPTION:
URL:https://watertowncmc.org/event/worship/2028-10-01/
LOCATION:Watertown Congregational Methodist Church\, 024 Okinawa Road\, Lake City\, Florida\, 32055\, United States
CATEGORIES:Weekly Services
END:VEVENT
BEGIN:VEVENT
DTSTART;TZID=America/New_York:20281004T180000
DTEND;TZID=America/New_York:20281004T180000
DTSTAMP:20260421T224524
CREATED:20260313T181127Z
LAST-MODIFIED:20260313T184639Z
UID:10000134-1854295200-1854295200@watertowncmc.org
SUMMARY:Midweek Prayer
DESCRIPTION:
URL:https://watertowncmc.org/event/midweek-prayer/2028-10-04/
LOCATION:Watertown Congregational Methodist Church\, 024 Okinawa Road\, Lake City\, Florida\, 32055\, United States
CATEGORIES:Weekly Services
END:VEVENT
BEGIN:VEVENT
DTSTART;TZID=America/New_York:20281008T094500
DTEND;TZID=America/New_York:20281008T094500
DTSTAMP:20260421T224524
CREATED:20260313T183950Z
LAST-MODIFIED:20260313T184000Z
UID:10000396-1854611100-1854611100@watertowncmc.org
SUMMARY:Sunday School
DESCRIPTION:
URL:https://watertowncmc.org/event/sunday-school/2028-10-08/
LOCATION:Watertown Congregational Methodist Church\, 024 Okinawa Road\, Lake City\, Florida\, 32055\, United States
END:VEVENT
BEGIN:VEVENT
DTSTART;TZID=America/New_York:20281008T110000
DTEND;TZID=America/New_York:20281008T110000
DTSTAMP:20260421T224524
CREATED:20260313T184140Z
LAST-MODIFIED:20260313T184159Z
UID:10000657-1854615600-1854615600@watertowncmc.org
SUMMARY:Worship
DESCRIPTION:
URL:https://watertowncmc.org/event/worship/2028-10-08/
LOCATION:Watertown Congregational Methodist Church\, 024 Okinawa Road\, Lake City\, Florida\, 32055\, United States
CATEGORIES:Weekly Services
END:VEVENT
BEGIN:VEVENT
DTSTART;TZID=America/New_York:20281011T180000
DTEND;TZID=America/New_York:20281011T180000
DTSTAMP:20260421T224524
CREATED:20260313T181127Z
LAST-MODIFIED:20260313T184639Z
UID:10000135-1854900000-1854900000@watertowncmc.org
SUMMARY:Midweek Prayer
DESCRIPTION:
URL:https://watertowncmc.org/event/midweek-prayer/2028-10-11/
LOCATION:Watertown Congregational Methodist Church\, 024 Okinawa Road\, Lake City\, Florida\, 32055\, United States
CATEGORIES:Weekly Services
END:VEVENT
BEGIN:VEVENT
DTSTART;TZID=America/New_York:20281015T094500
DTEND;TZID=America/New_York:20281015T094500
DTSTAMP:20260421T224524
CREATED:20260313T183950Z
LAST-MODIFIED:20260313T184000Z
UID:10000397-1855215900-1855215900@watertowncmc.org
SUMMARY:Sunday School
DESCRIPTION:
URL:https://watertowncmc.org/event/sunday-school/2028-10-15/
LOCATION:Watertown Congregational Methodist Church\, 024 Okinawa Road\, Lake City\, Florida\, 32055\, United States
END:VEVENT
BEGIN:VEVENT
DTSTART;TZID=America/New_York:20281015T110000
DTEND;TZID=America/New_York:20281015T110000
DTSTAMP:20260421T224524
CREATED:20260313T184140Z
LAST-MODIFIED:20260313T184159Z
UID:10000658-1855220400-1855220400@watertowncmc.org
SUMMARY:Worship
DESCRIPTION:
URL:https://watertowncmc.org/event/worship/2028-10-15/
LOCATION:Watertown Congregational Methodist Church\, 024 Okinawa Road\, Lake City\, Florida\, 32055\, United States
CATEGORIES:Weekly Services
END:VEVENT
BEGIN:VEVENT
DTSTART;TZID=America/New_York:20281018T180000
DTEND;TZID=America/New_York:20281018T180000
DTSTAMP:20260421T224524
CREATED:20260313T181127Z
LAST-MODIFIED:20260313T184639Z
UID:10000136-1855504800-1855504800@watertowncmc.org
SUMMARY:Midweek Prayer
DESCRIPTION:
URL:https://watertowncmc.org/event/midweek-prayer/2028-10-18/
LOCATION:Watertown Congregational Methodist Church\, 024 Okinawa Road\, Lake City\, Florida\, 32055\, United States
CATEGORIES:Weekly Services
END:VEVENT
BEGIN:VEVENT
DTSTART;TZID=America/New_York:20281022T094500
DTEND;TZID=America/New_York:20281022T094500
DTSTAMP:20260421T224524
CREATED:20260313T183950Z
LAST-MODIFIED:20260313T184000Z
UID:10000398-1855820700-1855820700@watertowncmc.org
SUMMARY:Sunday School
DESCRIPTION:
URL:https://watertowncmc.org/event/sunday-school/2028-10-22/
LOCATION:Watertown Congregational Methodist Church\, 024 Okinawa Road\, Lake City\, Florida\, 32055\, United States
END:VEVENT
BEGIN:VEVENT
DTSTART;TZID=America/New_York:20281022T110000
DTEND;TZID=America/New_York:20281022T110000
DTSTAMP:20260421T224524
CREATED:20260313T184140Z
LAST-MODIFIED:20260313T184159Z
UID:10000659-1855825200-1855825200@watertowncmc.org
SUMMARY:Worship
DESCRIPTION:
URL:https://watertowncmc.org/event/worship/2028-10-22/
LOCATION:Watertown Congregational Methodist Church\, 024 Okinawa Road\, Lake City\, Florida\, 32055\, United States
CATEGORIES:Weekly Services
END:VEVENT
BEGIN:VEVENT
DTSTART;TZID=America/New_York:20281025T180000
DTEND;TZID=America/New_York:20281025T180000
DTSTAMP:20260421T224524
CREATED:20260313T181127Z
LAST-MODIFIED:20260313T184639Z
UID:10000137-1856109600-1856109600@watertowncmc.org
SUMMARY:Midweek Prayer
DESCRIPTION:
URL:https://watertowncmc.org/event/midweek-prayer/2028-10-25/
LOCATION:Watertown Congregational Methodist Church\, 024 Okinawa Road\, Lake City\, Florida\, 32055\, United States
CATEGORIES:Weekly Services
END:VEVENT
BEGIN:VEVENT
DTSTART;TZID=America/New_York:20281029T094500
DTEND;TZID=America/New_York:20281029T094500
DTSTAMP:20260421T224524
CREATED:20260313T183950Z
LAST-MODIFIED:20260313T184000Z
UID:10000399-1856425500-1856425500@watertowncmc.org
SUMMARY:Sunday School
DESCRIPTION:
URL:https://watertowncmc.org/event/sunday-school/2028-10-29/
LOCATION:Watertown Congregational Methodist Church\, 024 Okinawa Road\, Lake City\, Florida\, 32055\, United States
END:VEVENT
BEGIN:VEVENT
DTSTART;TZID=America/New_York:20281029T110000
DTEND;TZID=America/New_York:20281029T110000
DTSTAMP:20260421T224524
CREATED:20260313T184140Z
LAST-MODIFIED:20260313T184159Z
UID:10000660-1856430000-1856430000@watertowncmc.org
SUMMARY:Worship
DESCRIPTION:
URL:https://watertowncmc.org/event/worship/2028-10-29/
LOCATION:Watertown Congregational Methodist Church\, 024 Okinawa Road\, Lake City\, Florida\, 32055\, United States
CATEGORIES:Weekly Services
END:VEVENT
END:VCALENDAR