BEGIN:VCALENDAR
VERSION:2.0
PRODID:-//Watertown Congregational Methodist Church - ECPv6.15.20//NONSGML v1.0//EN
CALSCALE:GREGORIAN
METHOD:PUBLISH
X-WR-CALNAME:Watertown Congregational Methodist Church
X-ORIGINAL-URL:https://watertowncmc.org
X-WR-CALDESC:Events for Watertown Congregational Methodist Church
REFRESH-INTERVAL;VALUE=DURATION:PT1H
X-Robots-Tag:noindex
X-PUBLISHED-TTL:PT1H
BEGIN:VTIMEZONE
TZID:America/New_York
BEGIN:DAYLIGHT
TZOFFSETFROM:-0500
TZOFFSETTO:-0400
TZNAME:EDT
DTSTART:20280312T070000
END:DAYLIGHT
BEGIN:STANDARD
TZOFFSETFROM:-0400
TZOFFSETTO:-0500
TZNAME:EST
DTSTART:20281105T060000
END:STANDARD
BEGIN:DAYLIGHT
TZOFFSETFROM:-0500
TZOFFSETTO:-0400
TZNAME:EDT
DTSTART:20290311T070000
END:DAYLIGHT
BEGIN:STANDARD
TZOFFSETFROM:-0400
TZOFFSETTO:-0500
TZNAME:EST
DTSTART:20291104T060000
END:STANDARD
BEGIN:DAYLIGHT
TZOFFSETFROM:-0500
TZOFFSETTO:-0400
TZNAME:EDT
DTSTART:20300310T070000
END:DAYLIGHT
BEGIN:STANDARD
TZOFFSETFROM:-0400
TZOFFSETTO:-0500
TZNAME:EST
DTSTART:20301103T060000
END:STANDARD
END:VTIMEZONE
BEGIN:VEVENT
DTSTART;TZID=America/New_York:20290603T094500
DTEND;TZID=America/New_York:20290603T094500
DTSTAMP:20260422T094123
CREATED:20260313T183950Z
LAST-MODIFIED:20260313T184000Z
UID:10000430-1875174300-1875174300@watertowncmc.org
SUMMARY:Sunday School
DESCRIPTION:
URL:https://watertowncmc.org/event/sunday-school/2029-06-03/
LOCATION:Watertown Congregational Methodist Church\, 024 Okinawa Road\, Lake City\, Florida\, 32055\, United States
END:VEVENT
BEGIN:VEVENT
DTSTART;TZID=America/New_York:20290603T110000
DTEND;TZID=America/New_York:20290603T110000
DTSTAMP:20260422T094123
CREATED:20260313T184140Z
LAST-MODIFIED:20260313T184159Z
UID:10000691-1875178800-1875178800@watertowncmc.org
SUMMARY:Worship
DESCRIPTION:
URL:https://watertowncmc.org/event/worship/2029-06-03/
LOCATION:Watertown Congregational Methodist Church\, 024 Okinawa Road\, Lake City\, Florida\, 32055\, United States
CATEGORIES:Weekly Services
END:VEVENT
BEGIN:VEVENT
DTSTART;TZID=America/New_York:20290606T180000
DTEND;TZID=America/New_York:20290606T180000
DTSTAMP:20260422T094123
CREATED:20260313T181127Z
LAST-MODIFIED:20260313T184639Z
UID:10000169-1875463200-1875463200@watertowncmc.org
SUMMARY:Midweek Prayer
DESCRIPTION:
URL:https://watertowncmc.org/event/midweek-prayer/2029-06-06/
LOCATION:Watertown Congregational Methodist Church\, 024 Okinawa Road\, Lake City\, Florida\, 32055\, United States
CATEGORIES:Weekly Services
END:VEVENT
BEGIN:VEVENT
DTSTART;TZID=America/New_York:20290610T094500
DTEND;TZID=America/New_York:20290610T094500
DTSTAMP:20260422T094123
CREATED:20260313T183950Z
LAST-MODIFIED:20260313T184000Z
UID:10000431-1875779100-1875779100@watertowncmc.org
SUMMARY:Sunday School
DESCRIPTION:
URL:https://watertowncmc.org/event/sunday-school/2029-06-10/
LOCATION:Watertown Congregational Methodist Church\, 024 Okinawa Road\, Lake City\, Florida\, 32055\, United States
END:VEVENT
BEGIN:VEVENT
DTSTART;TZID=America/New_York:20290610T110000
DTEND;TZID=America/New_York:20290610T110000
DTSTAMP:20260422T094123
CREATED:20260313T184140Z
LAST-MODIFIED:20260313T184159Z
UID:10000692-1875783600-1875783600@watertowncmc.org
SUMMARY:Worship
DESCRIPTION:
URL:https://watertowncmc.org/event/worship/2029-06-10/
LOCATION:Watertown Congregational Methodist Church\, 024 Okinawa Road\, Lake City\, Florida\, 32055\, United States
CATEGORIES:Weekly Services
END:VEVENT
BEGIN:VEVENT
DTSTART;TZID=America/New_York:20290613T180000
DTEND;TZID=America/New_York:20290613T180000
DTSTAMP:20260422T094123
CREATED:20260313T181127Z
LAST-MODIFIED:20260313T184639Z
UID:10000170-1876068000-1876068000@watertowncmc.org
SUMMARY:Midweek Prayer
DESCRIPTION:
URL:https://watertowncmc.org/event/midweek-prayer/2029-06-13/
LOCATION:Watertown Congregational Methodist Church\, 024 Okinawa Road\, Lake City\, Florida\, 32055\, United States
CATEGORIES:Weekly Services
END:VEVENT
BEGIN:VEVENT
DTSTART;TZID=America/New_York:20290617T094500
DTEND;TZID=America/New_York:20290617T094500
DTSTAMP:20260422T094123
CREATED:20260313T183950Z
LAST-MODIFIED:20260313T184000Z
UID:10000432-1876383900-1876383900@watertowncmc.org
SUMMARY:Sunday School
DESCRIPTION:
URL:https://watertowncmc.org/event/sunday-school/2029-06-17/
LOCATION:Watertown Congregational Methodist Church\, 024 Okinawa Road\, Lake City\, Florida\, 32055\, United States
END:VEVENT
BEGIN:VEVENT
DTSTART;TZID=America/New_York:20290617T110000
DTEND;TZID=America/New_York:20290617T110000
DTSTAMP:20260422T094123
CREATED:20260313T184140Z
LAST-MODIFIED:20260313T184159Z
UID:10000693-1876388400-1876388400@watertowncmc.org
SUMMARY:Worship
DESCRIPTION:
URL:https://watertowncmc.org/event/worship/2029-06-17/
LOCATION:Watertown Congregational Methodist Church\, 024 Okinawa Road\, Lake City\, Florida\, 32055\, United States
CATEGORIES:Weekly Services
END:VEVENT
BEGIN:VEVENT
DTSTART;TZID=America/New_York:20290620T180000
DTEND;TZID=America/New_York:20290620T180000
DTSTAMP:20260422T094123
CREATED:20260313T181127Z
LAST-MODIFIED:20260313T184639Z
UID:10000171-1876672800-1876672800@watertowncmc.org
SUMMARY:Midweek Prayer
DESCRIPTION:
URL:https://watertowncmc.org/event/midweek-prayer/2029-06-20/
LOCATION:Watertown Congregational Methodist Church\, 024 Okinawa Road\, Lake City\, Florida\, 32055\, United States
CATEGORIES:Weekly Services
END:VEVENT
BEGIN:VEVENT
DTSTART;TZID=America/New_York:20290624T094500
DTEND;TZID=America/New_York:20290624T094500
DTSTAMP:20260422T094123
CREATED:20260313T183950Z
LAST-MODIFIED:20260313T184000Z
UID:10000433-1876988700-1876988700@watertowncmc.org
SUMMARY:Sunday School
DESCRIPTION:
URL:https://watertowncmc.org/event/sunday-school/2029-06-24/
LOCATION:Watertown Congregational Methodist Church\, 024 Okinawa Road\, Lake City\, Florida\, 32055\, United States
END:VEVENT
BEGIN:VEVENT
DTSTART;TZID=America/New_York:20290624T110000
DTEND;TZID=America/New_York:20290624T110000
DTSTAMP:20260422T094123
CREATED:20260313T184140Z
LAST-MODIFIED:20260313T184159Z
UID:10000694-1876993200-1876993200@watertowncmc.org
SUMMARY:Worship
DESCRIPTION:
URL:https://watertowncmc.org/event/worship/2029-06-24/
LOCATION:Watertown Congregational Methodist Church\, 024 Okinawa Road\, Lake City\, Florida\, 32055\, United States
CATEGORIES:Weekly Services
END:VEVENT
BEGIN:VEVENT
DTSTART;TZID=America/New_York:20290627T180000
DTEND;TZID=America/New_York:20290627T180000
DTSTAMP:20260422T094123
CREATED:20260313T181127Z
LAST-MODIFIED:20260313T184639Z
UID:10000172-1877277600-1877277600@watertowncmc.org
SUMMARY:Midweek Prayer
DESCRIPTION:
URL:https://watertowncmc.org/event/midweek-prayer/2029-06-27/
LOCATION:Watertown Congregational Methodist Church\, 024 Okinawa Road\, Lake City\, Florida\, 32055\, United States
CATEGORIES:Weekly Services
END:VEVENT
END:VCALENDAR