BEGIN:VCALENDAR
VERSION:2.0
PRODID:-//Watertown Congregational Methodist Church - ECPv6.15.20//NONSGML v1.0//EN
CALSCALE:GREGORIAN
METHOD:PUBLISH
X-ORIGINAL-URL:https://watertowncmc.org
X-WR-CALDESC:Events for Watertown Congregational Methodist Church
REFRESH-INTERVAL;VALUE=DURATION:PT1H
X-Robots-Tag:noindex
X-PUBLISHED-TTL:PT1H
BEGIN:VTIMEZONE
TZID:America/New_York
BEGIN:DAYLIGHT
TZOFFSETFROM:-0500
TZOFFSETTO:-0400
TZNAME:EDT
DTSTART:20280312T070000
END:DAYLIGHT
BEGIN:STANDARD
TZOFFSETFROM:-0400
TZOFFSETTO:-0500
TZNAME:EST
DTSTART:20281105T060000
END:STANDARD
BEGIN:DAYLIGHT
TZOFFSETFROM:-0500
TZOFFSETTO:-0400
TZNAME:EDT
DTSTART:20290311T070000
END:DAYLIGHT
BEGIN:STANDARD
TZOFFSETFROM:-0400
TZOFFSETTO:-0500
TZNAME:EST
DTSTART:20291104T060000
END:STANDARD
BEGIN:DAYLIGHT
TZOFFSETFROM:-0500
TZOFFSETTO:-0400
TZNAME:EDT
DTSTART:20300310T070000
END:DAYLIGHT
BEGIN:STANDARD
TZOFFSETFROM:-0400
TZOFFSETTO:-0500
TZNAME:EST
DTSTART:20301103T060000
END:STANDARD
END:VTIMEZONE
BEGIN:VEVENT
DTSTART;TZID=America/New_York:20291104T094500
DTEND;TZID=America/New_York:20291104T094500
DTSTAMP:20260422T162706
CREATED:20260313T183950Z
LAST-MODIFIED:20260313T184000Z
UID:10000452-1888479900-1888479900@watertowncmc.org
SUMMARY:Sunday School
DESCRIPTION:
URL:https://watertowncmc.org/event/sunday-school/2029-11-04/
LOCATION:Watertown Congregational Methodist Church\, 024 Okinawa Road\, Lake City\, Florida\, 32055\, United States
END:VEVENT
BEGIN:VEVENT
DTSTART;TZID=America/New_York:20291104T110000
DTEND;TZID=America/New_York:20291104T110000
DTSTAMP:20260422T162706
CREATED:20260313T184140Z
LAST-MODIFIED:20260313T184159Z
UID:10000713-1888484400-1888484400@watertowncmc.org
SUMMARY:Worship
DESCRIPTION:
URL:https://watertowncmc.org/event/worship/2029-11-04/
LOCATION:Watertown Congregational Methodist Church\, 024 Okinawa Road\, Lake City\, Florida\, 32055\, United States
CATEGORIES:Weekly Services
END:VEVENT
BEGIN:VEVENT
DTSTART;TZID=America/New_York:20291107T180000
DTEND;TZID=America/New_York:20291107T180000
DTSTAMP:20260422T162706
CREATED:20260313T181127Z
LAST-MODIFIED:20260313T184639Z
UID:10000191-1888768800-1888768800@watertowncmc.org
SUMMARY:Midweek Prayer
DESCRIPTION:
URL:https://watertowncmc.org/event/midweek-prayer/2029-11-07/
LOCATION:Watertown Congregational Methodist Church\, 024 Okinawa Road\, Lake City\, Florida\, 32055\, United States
CATEGORIES:Weekly Services
END:VEVENT
BEGIN:VEVENT
DTSTART;TZID=America/New_York:20291111T094500
DTEND;TZID=America/New_York:20291111T094500
DTSTAMP:20260422T162706
CREATED:20260313T183950Z
LAST-MODIFIED:20260313T184000Z
UID:10000453-1889084700-1889084700@watertowncmc.org
SUMMARY:Sunday School
DESCRIPTION:
URL:https://watertowncmc.org/event/sunday-school/2029-11-11/
LOCATION:Watertown Congregational Methodist Church\, 024 Okinawa Road\, Lake City\, Florida\, 32055\, United States
END:VEVENT
BEGIN:VEVENT
DTSTART;TZID=America/New_York:20291111T110000
DTEND;TZID=America/New_York:20291111T110000
DTSTAMP:20260422T162706
CREATED:20260313T184140Z
LAST-MODIFIED:20260313T184159Z
UID:10000714-1889089200-1889089200@watertowncmc.org
SUMMARY:Worship
DESCRIPTION:
URL:https://watertowncmc.org/event/worship/2029-11-11/
LOCATION:Watertown Congregational Methodist Church\, 024 Okinawa Road\, Lake City\, Florida\, 32055\, United States
CATEGORIES:Weekly Services
END:VEVENT
BEGIN:VEVENT
DTSTART;TZID=America/New_York:20291114T180000
DTEND;TZID=America/New_York:20291114T180000
DTSTAMP:20260422T162706
CREATED:20260313T181127Z
LAST-MODIFIED:20260313T184639Z
UID:10000192-1889373600-1889373600@watertowncmc.org
SUMMARY:Midweek Prayer
DESCRIPTION:
URL:https://watertowncmc.org/event/midweek-prayer/2029-11-14/
LOCATION:Watertown Congregational Methodist Church\, 024 Okinawa Road\, Lake City\, Florida\, 32055\, United States
CATEGORIES:Weekly Services
END:VEVENT
BEGIN:VEVENT
DTSTART;TZID=America/New_York:20291118T094500
DTEND;TZID=America/New_York:20291118T094500
DTSTAMP:20260422T162706
CREATED:20260313T183950Z
LAST-MODIFIED:20260313T184000Z
UID:10000454-1889689500-1889689500@watertowncmc.org
SUMMARY:Sunday School
DESCRIPTION:
URL:https://watertowncmc.org/event/sunday-school/2029-11-18/
LOCATION:Watertown Congregational Methodist Church\, 024 Okinawa Road\, Lake City\, Florida\, 32055\, United States
END:VEVENT
BEGIN:VEVENT
DTSTART;TZID=America/New_York:20291118T110000
DTEND;TZID=America/New_York:20291118T110000
DTSTAMP:20260422T162706
CREATED:20260313T184140Z
LAST-MODIFIED:20260313T184159Z
UID:10000715-1889694000-1889694000@watertowncmc.org
SUMMARY:Worship
DESCRIPTION:
URL:https://watertowncmc.org/event/worship/2029-11-18/
LOCATION:Watertown Congregational Methodist Church\, 024 Okinawa Road\, Lake City\, Florida\, 32055\, United States
CATEGORIES:Weekly Services
END:VEVENT
BEGIN:VEVENT
DTSTART;TZID=America/New_York:20291121T180000
DTEND;TZID=America/New_York:20291121T180000
DTSTAMP:20260422T162706
CREATED:20260313T181127Z
LAST-MODIFIED:20260313T184639Z
UID:10000193-1889978400-1889978400@watertowncmc.org
SUMMARY:Midweek Prayer
DESCRIPTION:
URL:https://watertowncmc.org/event/midweek-prayer/2029-11-21/
LOCATION:Watertown Congregational Methodist Church\, 024 Okinawa Road\, Lake City\, Florida\, 32055\, United States
CATEGORIES:Weekly Services
END:VEVENT
BEGIN:VEVENT
DTSTART;TZID=America/New_York:20291125T094500
DTEND;TZID=America/New_York:20291125T094500
DTSTAMP:20260422T162706
CREATED:20260313T183950Z
LAST-MODIFIED:20260313T184000Z
UID:10000455-1890294300-1890294300@watertowncmc.org
SUMMARY:Sunday School
DESCRIPTION:
URL:https://watertowncmc.org/event/sunday-school/2029-11-25/
LOCATION:Watertown Congregational Methodist Church\, 024 Okinawa Road\, Lake City\, Florida\, 32055\, United States
END:VEVENT
BEGIN:VEVENT
DTSTART;TZID=America/New_York:20291125T110000
DTEND;TZID=America/New_York:20291125T110000
DTSTAMP:20260422T162706
CREATED:20260313T184140Z
LAST-MODIFIED:20260313T184159Z
UID:10000716-1890298800-1890298800@watertowncmc.org
SUMMARY:Worship
DESCRIPTION:
URL:https://watertowncmc.org/event/worship/2029-11-25/
LOCATION:Watertown Congregational Methodist Church\, 024 Okinawa Road\, Lake City\, Florida\, 32055\, United States
CATEGORIES:Weekly Services
END:VEVENT
BEGIN:VEVENT
DTSTART;TZID=America/New_York:20291128T180000
DTEND;TZID=America/New_York:20291128T180000
DTSTAMP:20260422T162706
CREATED:20260313T181127Z
LAST-MODIFIED:20260313T184639Z
UID:10000194-1890583200-1890583200@watertowncmc.org
SUMMARY:Midweek Prayer
DESCRIPTION:
URL:https://watertowncmc.org/event/midweek-prayer/2029-11-28/
LOCATION:Watertown Congregational Methodist Church\, 024 Okinawa Road\, Lake City\, Florida\, 32055\, United States
CATEGORIES:Weekly Services
END:VEVENT
END:VCALENDAR