BEGIN:VCALENDAR
VERSION:2.0
PRODID:-//Watertown Congregational Methodist Church - ECPv6.15.20//NONSGML v1.0//EN
CALSCALE:GREGORIAN
METHOD:PUBLISH
X-ORIGINAL-URL:https://watertowncmc.org
X-WR-CALDESC:Events for Watertown Congregational Methodist Church
REFRESH-INTERVAL;VALUE=DURATION:PT1H
X-Robots-Tag:noindex
X-PUBLISHED-TTL:PT1H
BEGIN:VTIMEZONE
TZID:America/New_York
BEGIN:DAYLIGHT
TZOFFSETFROM:-0500
TZOFFSETTO:-0400
TZNAME:EDT
DTSTART:20290311T070000
END:DAYLIGHT
BEGIN:STANDARD
TZOFFSETFROM:-0400
TZOFFSETTO:-0500
TZNAME:EST
DTSTART:20291104T060000
END:STANDARD
BEGIN:DAYLIGHT
TZOFFSETFROM:-0500
TZOFFSETTO:-0400
TZNAME:EDT
DTSTART:20300310T070000
END:DAYLIGHT
BEGIN:STANDARD
TZOFFSETFROM:-0400
TZOFFSETTO:-0500
TZNAME:EST
DTSTART:20301103T060000
END:STANDARD
BEGIN:DAYLIGHT
TZOFFSETFROM:-0500
TZOFFSETTO:-0400
TZNAME:EDT
DTSTART:20310309T070000
END:DAYLIGHT
BEGIN:STANDARD
TZOFFSETFROM:-0400
TZOFFSETTO:-0500
TZNAME:EST
DTSTART:20311102T060000
END:STANDARD
END:VTIMEZONE
BEGIN:VEVENT
DTSTART;TZID=America/New_York:20300102T180000
DTEND;TZID=America/New_York:20300102T180000
DTSTAMP:20260422T191036
CREATED:20260313T181127Z
LAST-MODIFIED:20260313T184639Z
UID:10000199-1893607200-1893607200@watertowncmc.org
SUMMARY:Midweek Prayer
DESCRIPTION:
URL:https://watertowncmc.org/event/midweek-prayer/2030-01-02/
LOCATION:Watertown Congregational Methodist Church\, 024 Okinawa Road\, Lake City\, Florida\, 32055\, United States
CATEGORIES:Weekly Services
END:VEVENT
BEGIN:VEVENT
DTSTART;TZID=America/New_York:20300106T094500
DTEND;TZID=America/New_York:20300106T094500
DTSTAMP:20260422T191036
CREATED:20260313T183950Z
LAST-MODIFIED:20260313T184000Z
UID:10000461-1893923100-1893923100@watertowncmc.org
SUMMARY:Sunday School
DESCRIPTION:
URL:https://watertowncmc.org/event/sunday-school/2030-01-06/
LOCATION:Watertown Congregational Methodist Church\, 024 Okinawa Road\, Lake City\, Florida\, 32055\, United States
END:VEVENT
BEGIN:VEVENT
DTSTART;TZID=America/New_York:20300106T110000
DTEND;TZID=America/New_York:20300106T110000
DTSTAMP:20260422T191036
CREATED:20260313T184140Z
LAST-MODIFIED:20260313T184159Z
UID:10000722-1893927600-1893927600@watertowncmc.org
SUMMARY:Worship
DESCRIPTION:
URL:https://watertowncmc.org/event/worship/2030-01-06/
LOCATION:Watertown Congregational Methodist Church\, 024 Okinawa Road\, Lake City\, Florida\, 32055\, United States
CATEGORIES:Weekly Services
END:VEVENT
BEGIN:VEVENT
DTSTART;TZID=America/New_York:20300109T180000
DTEND;TZID=America/New_York:20300109T180000
DTSTAMP:20260422T191036
CREATED:20260313T181127Z
LAST-MODIFIED:20260313T184639Z
UID:10000200-1894212000-1894212000@watertowncmc.org
SUMMARY:Midweek Prayer
DESCRIPTION:
URL:https://watertowncmc.org/event/midweek-prayer/2030-01-09/
LOCATION:Watertown Congregational Methodist Church\, 024 Okinawa Road\, Lake City\, Florida\, 32055\, United States
CATEGORIES:Weekly Services
END:VEVENT
BEGIN:VEVENT
DTSTART;TZID=America/New_York:20300113T094500
DTEND;TZID=America/New_York:20300113T094500
DTSTAMP:20260422T191036
CREATED:20260313T183950Z
LAST-MODIFIED:20260313T184000Z
UID:10000462-1894527900-1894527900@watertowncmc.org
SUMMARY:Sunday School
DESCRIPTION:
URL:https://watertowncmc.org/event/sunday-school/2030-01-13/
LOCATION:Watertown Congregational Methodist Church\, 024 Okinawa Road\, Lake City\, Florida\, 32055\, United States
END:VEVENT
BEGIN:VEVENT
DTSTART;TZID=America/New_York:20300113T110000
DTEND;TZID=America/New_York:20300113T110000
DTSTAMP:20260422T191036
CREATED:20260313T184140Z
LAST-MODIFIED:20260313T184159Z
UID:10000723-1894532400-1894532400@watertowncmc.org
SUMMARY:Worship
DESCRIPTION:
URL:https://watertowncmc.org/event/worship/2030-01-13/
LOCATION:Watertown Congregational Methodist Church\, 024 Okinawa Road\, Lake City\, Florida\, 32055\, United States
CATEGORIES:Weekly Services
END:VEVENT
BEGIN:VEVENT
DTSTART;TZID=America/New_York:20300116T180000
DTEND;TZID=America/New_York:20300116T180000
DTSTAMP:20260422T191036
CREATED:20260313T181127Z
LAST-MODIFIED:20260313T184639Z
UID:10000201-1894816800-1894816800@watertowncmc.org
SUMMARY:Midweek Prayer
DESCRIPTION:
URL:https://watertowncmc.org/event/midweek-prayer/2030-01-16/
LOCATION:Watertown Congregational Methodist Church\, 024 Okinawa Road\, Lake City\, Florida\, 32055\, United States
CATEGORIES:Weekly Services
END:VEVENT
BEGIN:VEVENT
DTSTART;TZID=America/New_York:20300120T094500
DTEND;TZID=America/New_York:20300120T094500
DTSTAMP:20260422T191036
CREATED:20260313T183950Z
LAST-MODIFIED:20260313T184000Z
UID:10000463-1895132700-1895132700@watertowncmc.org
SUMMARY:Sunday School
DESCRIPTION:
URL:https://watertowncmc.org/event/sunday-school/2030-01-20/
LOCATION:Watertown Congregational Methodist Church\, 024 Okinawa Road\, Lake City\, Florida\, 32055\, United States
END:VEVENT
BEGIN:VEVENT
DTSTART;TZID=America/New_York:20300120T110000
DTEND;TZID=America/New_York:20300120T110000
DTSTAMP:20260422T191036
CREATED:20260313T184140Z
LAST-MODIFIED:20260313T184159Z
UID:10000724-1895137200-1895137200@watertowncmc.org
SUMMARY:Worship
DESCRIPTION:
URL:https://watertowncmc.org/event/worship/2030-01-20/
LOCATION:Watertown Congregational Methodist Church\, 024 Okinawa Road\, Lake City\, Florida\, 32055\, United States
CATEGORIES:Weekly Services
END:VEVENT
BEGIN:VEVENT
DTSTART;TZID=America/New_York:20300123T180000
DTEND;TZID=America/New_York:20300123T180000
DTSTAMP:20260422T191036
CREATED:20260313T181127Z
LAST-MODIFIED:20260313T184639Z
UID:10000202-1895421600-1895421600@watertowncmc.org
SUMMARY:Midweek Prayer
DESCRIPTION:
URL:https://watertowncmc.org/event/midweek-prayer/2030-01-23/
LOCATION:Watertown Congregational Methodist Church\, 024 Okinawa Road\, Lake City\, Florida\, 32055\, United States
CATEGORIES:Weekly Services
END:VEVENT
BEGIN:VEVENT
DTSTART;TZID=America/New_York:20300127T094500
DTEND;TZID=America/New_York:20300127T094500
DTSTAMP:20260422T191036
CREATED:20260313T183950Z
LAST-MODIFIED:20260313T184000Z
UID:10000464-1895737500-1895737500@watertowncmc.org
SUMMARY:Sunday School
DESCRIPTION:
URL:https://watertowncmc.org/event/sunday-school/2030-01-27/
LOCATION:Watertown Congregational Methodist Church\, 024 Okinawa Road\, Lake City\, Florida\, 32055\, United States
END:VEVENT
BEGIN:VEVENT
DTSTART;TZID=America/New_York:20300127T110000
DTEND;TZID=America/New_York:20300127T110000
DTSTAMP:20260422T191036
CREATED:20260313T184140Z
LAST-MODIFIED:20260313T184159Z
UID:10000725-1895742000-1895742000@watertowncmc.org
SUMMARY:Worship
DESCRIPTION:
URL:https://watertowncmc.org/event/worship/2030-01-27/
LOCATION:Watertown Congregational Methodist Church\, 024 Okinawa Road\, Lake City\, Florida\, 32055\, United States
CATEGORIES:Weekly Services
END:VEVENT
BEGIN:VEVENT
DTSTART;TZID=America/New_York:20300130T180000
DTEND;TZID=America/New_York:20300130T180000
DTSTAMP:20260422T191036
CREATED:20260313T181127Z
LAST-MODIFIED:20260313T184639Z
UID:10000203-1896026400-1896026400@watertowncmc.org
SUMMARY:Midweek Prayer
DESCRIPTION:
URL:https://watertowncmc.org/event/midweek-prayer/2030-01-30/
LOCATION:Watertown Congregational Methodist Church\, 024 Okinawa Road\, Lake City\, Florida\, 32055\, United States
CATEGORIES:Weekly Services
END:VEVENT
END:VCALENDAR