BEGIN:VCALENDAR
VERSION:2.0
PRODID:-//Watertown Congregational Methodist Church - ECPv6.15.20//NONSGML v1.0//EN
CALSCALE:GREGORIAN
METHOD:PUBLISH
X-WR-CALNAME:Watertown Congregational Methodist Church
X-ORIGINAL-URL:https://watertowncmc.org
X-WR-CALDESC:Events for Watertown Congregational Methodist Church
REFRESH-INTERVAL;VALUE=DURATION:PT1H
X-Robots-Tag:noindex
X-PUBLISHED-TTL:PT1H
BEGIN:VTIMEZONE
TZID:America/New_York
BEGIN:DAYLIGHT
TZOFFSETFROM:-0500
TZOFFSETTO:-0400
TZNAME:EDT
DTSTART:20290311T070000
END:DAYLIGHT
BEGIN:STANDARD
TZOFFSETFROM:-0400
TZOFFSETTO:-0500
TZNAME:EST
DTSTART:20291104T060000
END:STANDARD
BEGIN:DAYLIGHT
TZOFFSETFROM:-0500
TZOFFSETTO:-0400
TZNAME:EDT
DTSTART:20300310T070000
END:DAYLIGHT
BEGIN:STANDARD
TZOFFSETFROM:-0400
TZOFFSETTO:-0500
TZNAME:EST
DTSTART:20301103T060000
END:STANDARD
BEGIN:DAYLIGHT
TZOFFSETFROM:-0500
TZOFFSETTO:-0400
TZNAME:EDT
DTSTART:20310309T070000
END:DAYLIGHT
BEGIN:STANDARD
TZOFFSETFROM:-0400
TZOFFSETTO:-0500
TZNAME:EST
DTSTART:20311102T060000
END:STANDARD
END:VTIMEZONE
BEGIN:VEVENT
DTSTART;TZID=America/New_York:20300501T180000
DTEND;TZID=America/New_York:20300501T180000
DTSTAMP:20260423T003747
CREATED:20260313T181127Z
LAST-MODIFIED:20260313T184639Z
UID:10000216-1903888800-1903888800@watertowncmc.org
SUMMARY:Midweek Prayer
DESCRIPTION:
URL:https://watertowncmc.org/event/midweek-prayer/2030-05-01/
LOCATION:Watertown Congregational Methodist Church\, 024 Okinawa Road\, Lake City\, Florida\, 32055\, United States
CATEGORIES:Weekly Services
END:VEVENT
BEGIN:VEVENT
DTSTART;TZID=America/New_York:20300505T094500
DTEND;TZID=America/New_York:20300505T094500
DTSTAMP:20260423T003747
CREATED:20260313T183950Z
LAST-MODIFIED:20260313T184000Z
UID:10000478-1904204700-1904204700@watertowncmc.org
SUMMARY:Sunday School
DESCRIPTION:
URL:https://watertowncmc.org/event/sunday-school/2030-05-05/
LOCATION:Watertown Congregational Methodist Church\, 024 Okinawa Road\, Lake City\, Florida\, 32055\, United States
END:VEVENT
BEGIN:VEVENT
DTSTART;TZID=America/New_York:20300505T110000
DTEND;TZID=America/New_York:20300505T110000
DTSTAMP:20260423T003747
CREATED:20260313T184140Z
LAST-MODIFIED:20260313T184159Z
UID:10000739-1904209200-1904209200@watertowncmc.org
SUMMARY:Worship
DESCRIPTION:
URL:https://watertowncmc.org/event/worship/2030-05-05/
LOCATION:Watertown Congregational Methodist Church\, 024 Okinawa Road\, Lake City\, Florida\, 32055\, United States
CATEGORIES:Weekly Services
END:VEVENT
BEGIN:VEVENT
DTSTART;TZID=America/New_York:20300508T180000
DTEND;TZID=America/New_York:20300508T180000
DTSTAMP:20260423T003747
CREATED:20260313T181127Z
LAST-MODIFIED:20260313T184639Z
UID:10000217-1904493600-1904493600@watertowncmc.org
SUMMARY:Midweek Prayer
DESCRIPTION:
URL:https://watertowncmc.org/event/midweek-prayer/2030-05-08/
LOCATION:Watertown Congregational Methodist Church\, 024 Okinawa Road\, Lake City\, Florida\, 32055\, United States
CATEGORIES:Weekly Services
END:VEVENT
BEGIN:VEVENT
DTSTART;TZID=America/New_York:20300512T094500
DTEND;TZID=America/New_York:20300512T094500
DTSTAMP:20260423T003747
CREATED:20260313T183950Z
LAST-MODIFIED:20260313T184000Z
UID:10000479-1904809500-1904809500@watertowncmc.org
SUMMARY:Sunday School
DESCRIPTION:
URL:https://watertowncmc.org/event/sunday-school/2030-05-12/
LOCATION:Watertown Congregational Methodist Church\, 024 Okinawa Road\, Lake City\, Florida\, 32055\, United States
END:VEVENT
BEGIN:VEVENT
DTSTART;TZID=America/New_York:20300512T110000
DTEND;TZID=America/New_York:20300512T110000
DTSTAMP:20260423T003747
CREATED:20260313T184140Z
LAST-MODIFIED:20260313T184159Z
UID:10000740-1904814000-1904814000@watertowncmc.org
SUMMARY:Worship
DESCRIPTION:
URL:https://watertowncmc.org/event/worship/2030-05-12/
LOCATION:Watertown Congregational Methodist Church\, 024 Okinawa Road\, Lake City\, Florida\, 32055\, United States
CATEGORIES:Weekly Services
END:VEVENT
BEGIN:VEVENT
DTSTART;TZID=America/New_York:20300515T180000
DTEND;TZID=America/New_York:20300515T180000
DTSTAMP:20260423T003747
CREATED:20260313T181127Z
LAST-MODIFIED:20260313T184639Z
UID:10000218-1905098400-1905098400@watertowncmc.org
SUMMARY:Midweek Prayer
DESCRIPTION:
URL:https://watertowncmc.org/event/midweek-prayer/2030-05-15/
LOCATION:Watertown Congregational Methodist Church\, 024 Okinawa Road\, Lake City\, Florida\, 32055\, United States
CATEGORIES:Weekly Services
END:VEVENT
BEGIN:VEVENT
DTSTART;TZID=America/New_York:20300519T094500
DTEND;TZID=America/New_York:20300519T094500
DTSTAMP:20260423T003747
CREATED:20260313T183950Z
LAST-MODIFIED:20260313T184000Z
UID:10000480-1905414300-1905414300@watertowncmc.org
SUMMARY:Sunday School
DESCRIPTION:
URL:https://watertowncmc.org/event/sunday-school/2030-05-19/
LOCATION:Watertown Congregational Methodist Church\, 024 Okinawa Road\, Lake City\, Florida\, 32055\, United States
END:VEVENT
BEGIN:VEVENT
DTSTART;TZID=America/New_York:20300519T110000
DTEND;TZID=America/New_York:20300519T110000
DTSTAMP:20260423T003747
CREATED:20260313T184140Z
LAST-MODIFIED:20260313T184159Z
UID:10000741-1905418800-1905418800@watertowncmc.org
SUMMARY:Worship
DESCRIPTION:
URL:https://watertowncmc.org/event/worship/2030-05-19/
LOCATION:Watertown Congregational Methodist Church\, 024 Okinawa Road\, Lake City\, Florida\, 32055\, United States
CATEGORIES:Weekly Services
END:VEVENT
BEGIN:VEVENT
DTSTART;TZID=America/New_York:20300522T180000
DTEND;TZID=America/New_York:20300522T180000
DTSTAMP:20260423T003747
CREATED:20260313T181127Z
LAST-MODIFIED:20260313T184639Z
UID:10000219-1905703200-1905703200@watertowncmc.org
SUMMARY:Midweek Prayer
DESCRIPTION:
URL:https://watertowncmc.org/event/midweek-prayer/2030-05-22/
LOCATION:Watertown Congregational Methodist Church\, 024 Okinawa Road\, Lake City\, Florida\, 32055\, United States
CATEGORIES:Weekly Services
END:VEVENT
BEGIN:VEVENT
DTSTART;TZID=America/New_York:20300526T094500
DTEND;TZID=America/New_York:20300526T094500
DTSTAMP:20260423T003747
CREATED:20260313T183950Z
LAST-MODIFIED:20260313T184000Z
UID:10000481-1906019100-1906019100@watertowncmc.org
SUMMARY:Sunday School
DESCRIPTION:
URL:https://watertowncmc.org/event/sunday-school/2030-05-26/
LOCATION:Watertown Congregational Methodist Church\, 024 Okinawa Road\, Lake City\, Florida\, 32055\, United States
END:VEVENT
BEGIN:VEVENT
DTSTART;TZID=America/New_York:20300526T110000
DTEND;TZID=America/New_York:20300526T110000
DTSTAMP:20260423T003747
CREATED:20260313T184140Z
LAST-MODIFIED:20260313T184159Z
UID:10000742-1906023600-1906023600@watertowncmc.org
SUMMARY:Worship
DESCRIPTION:
URL:https://watertowncmc.org/event/worship/2030-05-26/
LOCATION:Watertown Congregational Methodist Church\, 024 Okinawa Road\, Lake City\, Florida\, 32055\, United States
CATEGORIES:Weekly Services
END:VEVENT
BEGIN:VEVENT
DTSTART;TZID=America/New_York:20300529T180000
DTEND;TZID=America/New_York:20300529T180000
DTSTAMP:20260423T003747
CREATED:20260313T181127Z
LAST-MODIFIED:20260313T184639Z
UID:10000220-1906308000-1906308000@watertowncmc.org
SUMMARY:Midweek Prayer
DESCRIPTION:
URL:https://watertowncmc.org/event/midweek-prayer/2030-05-29/
LOCATION:Watertown Congregational Methodist Church\, 024 Okinawa Road\, Lake City\, Florida\, 32055\, United States
CATEGORIES:Weekly Services
END:VEVENT
END:VCALENDAR