BEGIN:VCALENDAR
VERSION:2.0
PRODID:-//Watertown Congregational Methodist Church - ECPv6.15.20//NONSGML v1.0//EN
CALSCALE:GREGORIAN
METHOD:PUBLISH
X-WR-CALNAME:Watertown Congregational Methodist Church
X-ORIGINAL-URL:https://watertowncmc.org
X-WR-CALDESC:Events for Watertown Congregational Methodist Church
REFRESH-INTERVAL;VALUE=DURATION:PT1H
X-Robots-Tag:noindex
X-PUBLISHED-TTL:PT1H
BEGIN:VTIMEZONE
TZID:America/New_York
BEGIN:DAYLIGHT
TZOFFSETFROM:-0500
TZOFFSETTO:-0400
TZNAME:EDT
DTSTART:20290311T070000
END:DAYLIGHT
BEGIN:STANDARD
TZOFFSETFROM:-0400
TZOFFSETTO:-0500
TZNAME:EST
DTSTART:20291104T060000
END:STANDARD
BEGIN:DAYLIGHT
TZOFFSETFROM:-0500
TZOFFSETTO:-0400
TZNAME:EDT
DTSTART:20300310T070000
END:DAYLIGHT
BEGIN:STANDARD
TZOFFSETFROM:-0400
TZOFFSETTO:-0500
TZNAME:EST
DTSTART:20301103T060000
END:STANDARD
BEGIN:DAYLIGHT
TZOFFSETFROM:-0500
TZOFFSETTO:-0400
TZNAME:EDT
DTSTART:20310309T070000
END:DAYLIGHT
BEGIN:STANDARD
TZOFFSETFROM:-0400
TZOFFSETTO:-0500
TZNAME:EST
DTSTART:20311102T060000
END:STANDARD
END:VTIMEZONE
BEGIN:VEVENT
DTSTART;TZID=America/New_York:20300703T180000
DTEND;TZID=America/New_York:20300703T180000
DTSTAMP:20260423T034641
CREATED:20260313T181127Z
LAST-MODIFIED:20260313T184639Z
UID:10000225-1909332000-1909332000@watertowncmc.org
SUMMARY:Midweek Prayer
DESCRIPTION:
URL:https://watertowncmc.org/event/midweek-prayer/2030-07-03/
LOCATION:Watertown Congregational Methodist Church\, 024 Okinawa Road\, Lake City\, Florida\, 32055\, United States
CATEGORIES:Weekly Services
END:VEVENT
BEGIN:VEVENT
DTSTART;TZID=America/New_York:20300707T094500
DTEND;TZID=America/New_York:20300707T094500
DTSTAMP:20260423T034641
CREATED:20260313T183950Z
LAST-MODIFIED:20260313T184000Z
UID:10000487-1909647900-1909647900@watertowncmc.org
SUMMARY:Sunday School
DESCRIPTION:
URL:https://watertowncmc.org/event/sunday-school/2030-07-07/
LOCATION:Watertown Congregational Methodist Church\, 024 Okinawa Road\, Lake City\, Florida\, 32055\, United States
END:VEVENT
BEGIN:VEVENT
DTSTART;TZID=America/New_York:20300707T110000
DTEND;TZID=America/New_York:20300707T110000
DTSTAMP:20260423T034641
CREATED:20260313T184140Z
LAST-MODIFIED:20260313T184159Z
UID:10000748-1909652400-1909652400@watertowncmc.org
SUMMARY:Worship
DESCRIPTION:
URL:https://watertowncmc.org/event/worship/2030-07-07/
LOCATION:Watertown Congregational Methodist Church\, 024 Okinawa Road\, Lake City\, Florida\, 32055\, United States
CATEGORIES:Weekly Services
END:VEVENT
BEGIN:VEVENT
DTSTART;TZID=America/New_York:20300710T180000
DTEND;TZID=America/New_York:20300710T180000
DTSTAMP:20260423T034641
CREATED:20260313T181127Z
LAST-MODIFIED:20260313T184639Z
UID:10000226-1909936800-1909936800@watertowncmc.org
SUMMARY:Midweek Prayer
DESCRIPTION:
URL:https://watertowncmc.org/event/midweek-prayer/2030-07-10/
LOCATION:Watertown Congregational Methodist Church\, 024 Okinawa Road\, Lake City\, Florida\, 32055\, United States
CATEGORIES:Weekly Services
END:VEVENT
BEGIN:VEVENT
DTSTART;TZID=America/New_York:20300714T094500
DTEND;TZID=America/New_York:20300714T094500
DTSTAMP:20260423T034641
CREATED:20260313T183950Z
LAST-MODIFIED:20260313T184000Z
UID:10000488-1910252700-1910252700@watertowncmc.org
SUMMARY:Sunday School
DESCRIPTION:
URL:https://watertowncmc.org/event/sunday-school/2030-07-14/
LOCATION:Watertown Congregational Methodist Church\, 024 Okinawa Road\, Lake City\, Florida\, 32055\, United States
END:VEVENT
BEGIN:VEVENT
DTSTART;TZID=America/New_York:20300714T110000
DTEND;TZID=America/New_York:20300714T110000
DTSTAMP:20260423T034641
CREATED:20260313T184140Z
LAST-MODIFIED:20260313T184159Z
UID:10000749-1910257200-1910257200@watertowncmc.org
SUMMARY:Worship
DESCRIPTION:
URL:https://watertowncmc.org/event/worship/2030-07-14/
LOCATION:Watertown Congregational Methodist Church\, 024 Okinawa Road\, Lake City\, Florida\, 32055\, United States
CATEGORIES:Weekly Services
END:VEVENT
BEGIN:VEVENT
DTSTART;TZID=America/New_York:20300717T180000
DTEND;TZID=America/New_York:20300717T180000
DTSTAMP:20260423T034641
CREATED:20260313T181127Z
LAST-MODIFIED:20260313T184639Z
UID:10000227-1910541600-1910541600@watertowncmc.org
SUMMARY:Midweek Prayer
DESCRIPTION:
URL:https://watertowncmc.org/event/midweek-prayer/2030-07-17/
LOCATION:Watertown Congregational Methodist Church\, 024 Okinawa Road\, Lake City\, Florida\, 32055\, United States
CATEGORIES:Weekly Services
END:VEVENT
BEGIN:VEVENT
DTSTART;TZID=America/New_York:20300721T094500
DTEND;TZID=America/New_York:20300721T094500
DTSTAMP:20260423T034641
CREATED:20260313T183950Z
LAST-MODIFIED:20260313T184000Z
UID:10000489-1910857500-1910857500@watertowncmc.org
SUMMARY:Sunday School
DESCRIPTION:
URL:https://watertowncmc.org/event/sunday-school/2030-07-21/
LOCATION:Watertown Congregational Methodist Church\, 024 Okinawa Road\, Lake City\, Florida\, 32055\, United States
END:VEVENT
BEGIN:VEVENT
DTSTART;TZID=America/New_York:20300721T110000
DTEND;TZID=America/New_York:20300721T110000
DTSTAMP:20260423T034641
CREATED:20260313T184140Z
LAST-MODIFIED:20260313T184159Z
UID:10000750-1910862000-1910862000@watertowncmc.org
SUMMARY:Worship
DESCRIPTION:
URL:https://watertowncmc.org/event/worship/2030-07-21/
LOCATION:Watertown Congregational Methodist Church\, 024 Okinawa Road\, Lake City\, Florida\, 32055\, United States
CATEGORIES:Weekly Services
END:VEVENT
BEGIN:VEVENT
DTSTART;TZID=America/New_York:20300724T180000
DTEND;TZID=America/New_York:20300724T180000
DTSTAMP:20260423T034641
CREATED:20260313T181127Z
LAST-MODIFIED:20260313T184639Z
UID:10000228-1911146400-1911146400@watertowncmc.org
SUMMARY:Midweek Prayer
DESCRIPTION:
URL:https://watertowncmc.org/event/midweek-prayer/2030-07-24/
LOCATION:Watertown Congregational Methodist Church\, 024 Okinawa Road\, Lake City\, Florida\, 32055\, United States
CATEGORIES:Weekly Services
END:VEVENT
BEGIN:VEVENT
DTSTART;TZID=America/New_York:20300728T094500
DTEND;TZID=America/New_York:20300728T094500
DTSTAMP:20260423T034641
CREATED:20260313T183950Z
LAST-MODIFIED:20260313T184000Z
UID:10000490-1911462300-1911462300@watertowncmc.org
SUMMARY:Sunday School
DESCRIPTION:
URL:https://watertowncmc.org/event/sunday-school/2030-07-28/
LOCATION:Watertown Congregational Methodist Church\, 024 Okinawa Road\, Lake City\, Florida\, 32055\, United States
END:VEVENT
BEGIN:VEVENT
DTSTART;TZID=America/New_York:20300728T110000
DTEND;TZID=America/New_York:20300728T110000
DTSTAMP:20260423T034641
CREATED:20260313T184140Z
LAST-MODIFIED:20260313T184159Z
UID:10000751-1911466800-1911466800@watertowncmc.org
SUMMARY:Worship
DESCRIPTION:
URL:https://watertowncmc.org/event/worship/2030-07-28/
LOCATION:Watertown Congregational Methodist Church\, 024 Okinawa Road\, Lake City\, Florida\, 32055\, United States
CATEGORIES:Weekly Services
END:VEVENT
BEGIN:VEVENT
DTSTART;TZID=America/New_York:20300731T180000
DTEND;TZID=America/New_York:20300731T180000
DTSTAMP:20260423T034641
CREATED:20260313T181127Z
LAST-MODIFIED:20260313T184639Z
UID:10000229-1911751200-1911751200@watertowncmc.org
SUMMARY:Midweek Prayer
DESCRIPTION:
URL:https://watertowncmc.org/event/midweek-prayer/2030-07-31/
LOCATION:Watertown Congregational Methodist Church\, 024 Okinawa Road\, Lake City\, Florida\, 32055\, United States
CATEGORIES:Weekly Services
END:VEVENT
END:VCALENDAR