BEGIN:VCALENDAR
VERSION:2.0
PRODID:-//Watertown Congregational Methodist Church - ECPv6.15.20//NONSGML v1.0//EN
CALSCALE:GREGORIAN
METHOD:PUBLISH
X-WR-CALNAME:Watertown Congregational Methodist Church
X-ORIGINAL-URL:https://watertowncmc.org
X-WR-CALDESC:Events for Watertown Congregational Methodist Church
REFRESH-INTERVAL;VALUE=DURATION:PT1H
X-Robots-Tag:noindex
X-PUBLISHED-TTL:PT1H
BEGIN:VTIMEZONE
TZID:America/New_York
BEGIN:DAYLIGHT
TZOFFSETFROM:-0500
TZOFFSETTO:-0400
TZNAME:EDT
DTSTART:20290311T070000
END:DAYLIGHT
BEGIN:STANDARD
TZOFFSETFROM:-0400
TZOFFSETTO:-0500
TZNAME:EST
DTSTART:20291104T060000
END:STANDARD
BEGIN:DAYLIGHT
TZOFFSETFROM:-0500
TZOFFSETTO:-0400
TZNAME:EDT
DTSTART:20300310T070000
END:DAYLIGHT
BEGIN:STANDARD
TZOFFSETFROM:-0400
TZOFFSETTO:-0500
TZNAME:EST
DTSTART:20301103T060000
END:STANDARD
BEGIN:DAYLIGHT
TZOFFSETFROM:-0500
TZOFFSETTO:-0400
TZNAME:EDT
DTSTART:20310309T070000
END:DAYLIGHT
BEGIN:STANDARD
TZOFFSETFROM:-0400
TZOFFSETTO:-0500
TZNAME:EST
DTSTART:20311102T060000
END:STANDARD
END:VTIMEZONE
BEGIN:VEVENT
DTSTART;TZID=America/New_York:20301002T180000
DTEND;TZID=America/New_York:20301002T180000
DTSTAMP:20260423T074340
CREATED:20260313T181127Z
LAST-MODIFIED:20260313T184639Z
UID:10000238-1917194400-1917194400@watertowncmc.org
SUMMARY:Midweek Prayer
DESCRIPTION:
URL:https://watertowncmc.org/event/midweek-prayer/2030-10-02/
LOCATION:Watertown Congregational Methodist Church\, 024 Okinawa Road\, Lake City\, Florida\, 32055\, United States
CATEGORIES:Weekly Services
END:VEVENT
BEGIN:VEVENT
DTSTART;TZID=America/New_York:20301006T094500
DTEND;TZID=America/New_York:20301006T094500
DTSTAMP:20260423T074340
CREATED:20260313T183950Z
LAST-MODIFIED:20260313T184000Z
UID:10000500-1917510300-1917510300@watertowncmc.org
SUMMARY:Sunday School
DESCRIPTION:
URL:https://watertowncmc.org/event/sunday-school/2030-10-06/
LOCATION:Watertown Congregational Methodist Church\, 024 Okinawa Road\, Lake City\, Florida\, 32055\, United States
END:VEVENT
BEGIN:VEVENT
DTSTART;TZID=America/New_York:20301006T110000
DTEND;TZID=America/New_York:20301006T110000
DTSTAMP:20260423T074340
CREATED:20260313T184140Z
LAST-MODIFIED:20260313T184159Z
UID:10000761-1917514800-1917514800@watertowncmc.org
SUMMARY:Worship
DESCRIPTION:
URL:https://watertowncmc.org/event/worship/2030-10-06/
LOCATION:Watertown Congregational Methodist Church\, 024 Okinawa Road\, Lake City\, Florida\, 32055\, United States
CATEGORIES:Weekly Services
END:VEVENT
BEGIN:VEVENT
DTSTART;TZID=America/New_York:20301009T180000
DTEND;TZID=America/New_York:20301009T180000
DTSTAMP:20260423T074340
CREATED:20260313T181127Z
LAST-MODIFIED:20260313T184639Z
UID:10000239-1917799200-1917799200@watertowncmc.org
SUMMARY:Midweek Prayer
DESCRIPTION:
URL:https://watertowncmc.org/event/midweek-prayer/2030-10-09/
LOCATION:Watertown Congregational Methodist Church\, 024 Okinawa Road\, Lake City\, Florida\, 32055\, United States
CATEGORIES:Weekly Services
END:VEVENT
BEGIN:VEVENT
DTSTART;TZID=America/New_York:20301013T094500
DTEND;TZID=America/New_York:20301013T094500
DTSTAMP:20260423T074340
CREATED:20260313T183950Z
LAST-MODIFIED:20260313T184000Z
UID:10000501-1918115100-1918115100@watertowncmc.org
SUMMARY:Sunday School
DESCRIPTION:
URL:https://watertowncmc.org/event/sunday-school/2030-10-13/
LOCATION:Watertown Congregational Methodist Church\, 024 Okinawa Road\, Lake City\, Florida\, 32055\, United States
END:VEVENT
BEGIN:VEVENT
DTSTART;TZID=America/New_York:20301013T110000
DTEND;TZID=America/New_York:20301013T110000
DTSTAMP:20260423T074340
CREATED:20260313T184140Z
LAST-MODIFIED:20260313T184159Z
UID:10000762-1918119600-1918119600@watertowncmc.org
SUMMARY:Worship
DESCRIPTION:
URL:https://watertowncmc.org/event/worship/2030-10-13/
LOCATION:Watertown Congregational Methodist Church\, 024 Okinawa Road\, Lake City\, Florida\, 32055\, United States
CATEGORIES:Weekly Services
END:VEVENT
BEGIN:VEVENT
DTSTART;TZID=America/New_York:20301016T180000
DTEND;TZID=America/New_York:20301016T180000
DTSTAMP:20260423T074340
CREATED:20260313T181127Z
LAST-MODIFIED:20260313T184639Z
UID:10000240-1918404000-1918404000@watertowncmc.org
SUMMARY:Midweek Prayer
DESCRIPTION:
URL:https://watertowncmc.org/event/midweek-prayer/2030-10-16/
LOCATION:Watertown Congregational Methodist Church\, 024 Okinawa Road\, Lake City\, Florida\, 32055\, United States
CATEGORIES:Weekly Services
END:VEVENT
BEGIN:VEVENT
DTSTART;TZID=America/New_York:20301020T094500
DTEND;TZID=America/New_York:20301020T094500
DTSTAMP:20260423T074340
CREATED:20260313T183950Z
LAST-MODIFIED:20260313T184000Z
UID:10000502-1918719900-1918719900@watertowncmc.org
SUMMARY:Sunday School
DESCRIPTION:
URL:https://watertowncmc.org/event/sunday-school/2030-10-20/
LOCATION:Watertown Congregational Methodist Church\, 024 Okinawa Road\, Lake City\, Florida\, 32055\, United States
END:VEVENT
BEGIN:VEVENT
DTSTART;TZID=America/New_York:20301020T110000
DTEND;TZID=America/New_York:20301020T110000
DTSTAMP:20260423T074340
CREATED:20260313T184140Z
LAST-MODIFIED:20260313T184159Z
UID:10000763-1918724400-1918724400@watertowncmc.org
SUMMARY:Worship
DESCRIPTION:
URL:https://watertowncmc.org/event/worship/2030-10-20/
LOCATION:Watertown Congregational Methodist Church\, 024 Okinawa Road\, Lake City\, Florida\, 32055\, United States
CATEGORIES:Weekly Services
END:VEVENT
BEGIN:VEVENT
DTSTART;TZID=America/New_York:20301023T180000
DTEND;TZID=America/New_York:20301023T180000
DTSTAMP:20260423T074340
CREATED:20260313T181127Z
LAST-MODIFIED:20260313T184639Z
UID:10000241-1919008800-1919008800@watertowncmc.org
SUMMARY:Midweek Prayer
DESCRIPTION:
URL:https://watertowncmc.org/event/midweek-prayer/2030-10-23/
LOCATION:Watertown Congregational Methodist Church\, 024 Okinawa Road\, Lake City\, Florida\, 32055\, United States
CATEGORIES:Weekly Services
END:VEVENT
BEGIN:VEVENT
DTSTART;TZID=America/New_York:20301027T094500
DTEND;TZID=America/New_York:20301027T094500
DTSTAMP:20260423T074340
CREATED:20260313T183950Z
LAST-MODIFIED:20260313T184000Z
UID:10000503-1919324700-1919324700@watertowncmc.org
SUMMARY:Sunday School
DESCRIPTION:
URL:https://watertowncmc.org/event/sunday-school/2030-10-27/
LOCATION:Watertown Congregational Methodist Church\, 024 Okinawa Road\, Lake City\, Florida\, 32055\, United States
END:VEVENT
BEGIN:VEVENT
DTSTART;TZID=America/New_York:20301027T110000
DTEND;TZID=America/New_York:20301027T110000
DTSTAMP:20260423T074340
CREATED:20260313T184140Z
LAST-MODIFIED:20260313T184159Z
UID:10000764-1919329200-1919329200@watertowncmc.org
SUMMARY:Worship
DESCRIPTION:
URL:https://watertowncmc.org/event/worship/2030-10-27/
LOCATION:Watertown Congregational Methodist Church\, 024 Okinawa Road\, Lake City\, Florida\, 32055\, United States
CATEGORIES:Weekly Services
END:VEVENT
BEGIN:VEVENT
DTSTART;TZID=America/New_York:20301030T180000
DTEND;TZID=America/New_York:20301030T180000
DTSTAMP:20260423T074340
CREATED:20260313T181127Z
LAST-MODIFIED:20260313T184639Z
UID:10000242-1919613600-1919613600@watertowncmc.org
SUMMARY:Midweek Prayer
DESCRIPTION:
URL:https://watertowncmc.org/event/midweek-prayer/2030-10-30/
LOCATION:Watertown Congregational Methodist Church\, 024 Okinawa Road\, Lake City\, Florida\, 32055\, United States
CATEGORIES:Weekly Services
END:VEVENT
END:VCALENDAR