BEGIN:VCALENDAR
VERSION:2.0
PRODID:-//Watertown Congregational Methodist Church - ECPv6.15.20//NONSGML v1.0//EN
CALSCALE:GREGORIAN
METHOD:PUBLISH
X-WR-CALNAME:Watertown Congregational Methodist Church
X-ORIGINAL-URL:https://watertowncmc.org
X-WR-CALDESC:Events for Watertown Congregational Methodist Church
REFRESH-INTERVAL;VALUE=DURATION:PT1H
X-Robots-Tag:noindex
X-PUBLISHED-TTL:PT1H
BEGIN:VTIMEZONE
TZID:America/New_York
BEGIN:DAYLIGHT
TZOFFSETFROM:-0500
TZOFFSETTO:-0400
TZNAME:EDT
DTSTART:20300310T070000
END:DAYLIGHT
BEGIN:STANDARD
TZOFFSETFROM:-0400
TZOFFSETTO:-0500
TZNAME:EST
DTSTART:20301103T060000
END:STANDARD
BEGIN:DAYLIGHT
TZOFFSETFROM:-0500
TZOFFSETTO:-0400
TZNAME:EDT
DTSTART:20310309T070000
END:DAYLIGHT
BEGIN:STANDARD
TZOFFSETFROM:-0400
TZOFFSETTO:-0500
TZNAME:EST
DTSTART:20311102T060000
END:STANDARD
BEGIN:DAYLIGHT
TZOFFSETFROM:-0500
TZOFFSETTO:-0400
TZNAME:EDT
DTSTART:20320314T070000
END:DAYLIGHT
BEGIN:STANDARD
TZOFFSETFROM:-0400
TZOFFSETTO:-0500
TZNAME:EST
DTSTART:20321107T060000
END:STANDARD
END:VTIMEZONE
BEGIN:VEVENT
DTSTART;TZID=America/New_York:20310202T094500
DTEND;TZID=America/New_York:20310202T094500
DTSTAMP:20260423T131721
CREATED:20260313T183950Z
LAST-MODIFIED:20260313T184000Z
UID:10000517-1927791900-1927791900@watertowncmc.org
SUMMARY:Sunday School
DESCRIPTION:
URL:https://watertowncmc.org/event/sunday-school/2031-02-02/
LOCATION:Watertown Congregational Methodist Church\, 024 Okinawa Road\, Lake City\, Florida\, 32055\, United States
END:VEVENT
BEGIN:VEVENT
DTSTART;TZID=America/New_York:20310202T110000
DTEND;TZID=America/New_York:20310202T110000
DTSTAMP:20260423T131721
CREATED:20260313T184140Z
LAST-MODIFIED:20260313T184159Z
UID:10000778-1927796400-1927796400@watertowncmc.org
SUMMARY:Worship
DESCRIPTION:
URL:https://watertowncmc.org/event/worship/2031-02-02/
LOCATION:Watertown Congregational Methodist Church\, 024 Okinawa Road\, Lake City\, Florida\, 32055\, United States
CATEGORIES:Weekly Services
END:VEVENT
BEGIN:VEVENT
DTSTART;TZID=America/New_York:20310205T180000
DTEND;TZID=America/New_York:20310205T180000
DTSTAMP:20260423T131721
CREATED:20260313T181127Z
LAST-MODIFIED:20260313T184639Z
UID:10000256-1928080800-1928080800@watertowncmc.org
SUMMARY:Midweek Prayer
DESCRIPTION:
URL:https://watertowncmc.org/event/midweek-prayer/2031-02-05/
LOCATION:Watertown Congregational Methodist Church\, 024 Okinawa Road\, Lake City\, Florida\, 32055\, United States
CATEGORIES:Weekly Services
END:VEVENT
BEGIN:VEVENT
DTSTART;TZID=America/New_York:20310209T094500
DTEND;TZID=America/New_York:20310209T094500
DTSTAMP:20260423T131721
CREATED:20260313T183950Z
LAST-MODIFIED:20260313T184000Z
UID:10000518-1928396700-1928396700@watertowncmc.org
SUMMARY:Sunday School
DESCRIPTION:
URL:https://watertowncmc.org/event/sunday-school/2031-02-09/
LOCATION:Watertown Congregational Methodist Church\, 024 Okinawa Road\, Lake City\, Florida\, 32055\, United States
END:VEVENT
BEGIN:VEVENT
DTSTART;TZID=America/New_York:20310209T110000
DTEND;TZID=America/New_York:20310209T110000
DTSTAMP:20260423T131721
CREATED:20260313T184140Z
LAST-MODIFIED:20260313T184159Z
UID:10000779-1928401200-1928401200@watertowncmc.org
SUMMARY:Worship
DESCRIPTION:
URL:https://watertowncmc.org/event/worship/2031-02-09/
LOCATION:Watertown Congregational Methodist Church\, 024 Okinawa Road\, Lake City\, Florida\, 32055\, United States
CATEGORIES:Weekly Services
END:VEVENT
BEGIN:VEVENT
DTSTART;TZID=America/New_York:20310212T180000
DTEND;TZID=America/New_York:20310212T180000
DTSTAMP:20260423T131721
CREATED:20260313T181127Z
LAST-MODIFIED:20260313T184639Z
UID:10000257-1928685600-1928685600@watertowncmc.org
SUMMARY:Midweek Prayer
DESCRIPTION:
URL:https://watertowncmc.org/event/midweek-prayer/2031-02-12/
LOCATION:Watertown Congregational Methodist Church\, 024 Okinawa Road\, Lake City\, Florida\, 32055\, United States
CATEGORIES:Weekly Services
END:VEVENT
BEGIN:VEVENT
DTSTART;TZID=America/New_York:20310216T094500
DTEND;TZID=America/New_York:20310216T094500
DTSTAMP:20260423T131721
CREATED:20260313T183950Z
LAST-MODIFIED:20260313T184000Z
UID:10000519-1929001500-1929001500@watertowncmc.org
SUMMARY:Sunday School
DESCRIPTION:
URL:https://watertowncmc.org/event/sunday-school/2031-02-16/
LOCATION:Watertown Congregational Methodist Church\, 024 Okinawa Road\, Lake City\, Florida\, 32055\, United States
END:VEVENT
BEGIN:VEVENT
DTSTART;TZID=America/New_York:20310216T110000
DTEND;TZID=America/New_York:20310216T110000
DTSTAMP:20260423T131721
CREATED:20260313T184140Z
LAST-MODIFIED:20260313T184159Z
UID:10000780-1929006000-1929006000@watertowncmc.org
SUMMARY:Worship
DESCRIPTION:
URL:https://watertowncmc.org/event/worship/2031-02-16/
LOCATION:Watertown Congregational Methodist Church\, 024 Okinawa Road\, Lake City\, Florida\, 32055\, United States
CATEGORIES:Weekly Services
END:VEVENT
BEGIN:VEVENT
DTSTART;TZID=America/New_York:20310219T180000
DTEND;TZID=America/New_York:20310219T180000
DTSTAMP:20260423T131721
CREATED:20260313T181127Z
LAST-MODIFIED:20260313T184639Z
UID:10000258-1929290400-1929290400@watertowncmc.org
SUMMARY:Midweek Prayer
DESCRIPTION:
URL:https://watertowncmc.org/event/midweek-prayer/2031-02-19/
LOCATION:Watertown Congregational Methodist Church\, 024 Okinawa Road\, Lake City\, Florida\, 32055\, United States
CATEGORIES:Weekly Services
END:VEVENT
BEGIN:VEVENT
DTSTART;TZID=America/New_York:20310223T094500
DTEND;TZID=America/New_York:20310223T094500
DTSTAMP:20260423T131721
CREATED:20260313T183950Z
LAST-MODIFIED:20260313T184000Z
UID:10000520-1929606300-1929606300@watertowncmc.org
SUMMARY:Sunday School
DESCRIPTION:
URL:https://watertowncmc.org/event/sunday-school/2031-02-23/
LOCATION:Watertown Congregational Methodist Church\, 024 Okinawa Road\, Lake City\, Florida\, 32055\, United States
END:VEVENT
BEGIN:VEVENT
DTSTART;TZID=America/New_York:20310223T110000
DTEND;TZID=America/New_York:20310223T110000
DTSTAMP:20260423T131721
CREATED:20260313T184140Z
LAST-MODIFIED:20260313T184159Z
UID:10000781-1929610800-1929610800@watertowncmc.org
SUMMARY:Worship
DESCRIPTION:
URL:https://watertowncmc.org/event/worship/2031-02-23/
LOCATION:Watertown Congregational Methodist Church\, 024 Okinawa Road\, Lake City\, Florida\, 32055\, United States
CATEGORIES:Weekly Services
END:VEVENT
BEGIN:VEVENT
DTSTART;TZID=America/New_York:20310226T180000
DTEND;TZID=America/New_York:20310226T180000
DTSTAMP:20260423T131721
CREATED:20260313T181127Z
LAST-MODIFIED:20260313T184639Z
UID:10000259-1929895200-1929895200@watertowncmc.org
SUMMARY:Midweek Prayer
DESCRIPTION:
URL:https://watertowncmc.org/event/midweek-prayer/2031-02-26/
LOCATION:Watertown Congregational Methodist Church\, 024 Okinawa Road\, Lake City\, Florida\, 32055\, United States
CATEGORIES:Weekly Services
END:VEVENT
END:VCALENDAR